BEGIN:VCALENDAR
VERSION:2.0
PRODID:-//Johannelunds teologiska högskola - ECPv6.15.20//NONSGML v1.0//EN
CALSCALE:GREGORIAN
METHOD:PUBLISH
X-WR-CALNAME:Johannelunds teologiska högskola
X-ORIGINAL-URL:https://www.johannelund.nu
X-WR-CALDESC:Händelser för Johannelunds teologiska högskola
REFRESH-INTERVAL;VALUE=DURATION:PT1H
X-Robots-Tag:noindex
X-PUBLISHED-TTL:PT1H
BEGIN:VTIMEZONE
TZID:Europe/Stockholm
BEGIN:DAYLIGHT
TZOFFSETFROM:+0100
TZOFFSETTO:+0200
TZNAME:CEST
DTSTART:20210328T010000
END:DAYLIGHT
BEGIN:STANDARD
TZOFFSETFROM:+0200
TZOFFSETTO:+0100
TZNAME:CET
DTSTART:20211031T010000
END:STANDARD
BEGIN:DAYLIGHT
TZOFFSETFROM:+0100
TZOFFSETTO:+0200
TZNAME:CEST
DTSTART:20220327T010000
END:DAYLIGHT
BEGIN:STANDARD
TZOFFSETFROM:+0200
TZOFFSETTO:+0100
TZNAME:CET
DTSTART:20221030T010000
END:STANDARD
BEGIN:DAYLIGHT
TZOFFSETFROM:+0100
TZOFFSETTO:+0200
TZNAME:CEST
DTSTART:20230326T010000
END:DAYLIGHT
BEGIN:STANDARD
TZOFFSETFROM:+0200
TZOFFSETTO:+0100
TZNAME:CET
DTSTART:20231029T010000
END:STANDARD
END:VTIMEZONE
BEGIN:VEVENT
DTSTART;TZID=Europe/Stockholm:20220915T100000
DTEND;TZID=Europe/Stockholm:20220915T102000
DTSTAMP:20260424T004956
CREATED:20220908T075949Z
LAST-MODIFIED:20220908T075949Z
UID:1620-1663236000-1663237200@www.johannelund.nu
SUMMARY:Morgonbön med Gamla Uppsalas nya församlingsherde
DESCRIPTION:Dagens morgonbön gästas alltså av Gamla Uppsalas nya församlingsherde Andreas Holm. Aulan.
URL:https://www.johannelund.nu/event/morgonbon-med-gamla-uppsalas-nya-forsamlingsherde/
END:VEVENT
END:VCALENDAR