BEGIN:VCALENDAR
VERSION:2.0
PRODID:-//Johannelunds teologiska högskola - ECPv6.15.20//NONSGML v1.0//EN
CALSCALE:GREGORIAN
METHOD:PUBLISH
X-ORIGINAL-URL:https://www.johannelund.nu
X-WR-CALDESC:Händelser för Johannelunds teologiska högskola
REFRESH-INTERVAL;VALUE=DURATION:PT1H
X-Robots-Tag:noindex
X-PUBLISHED-TTL:PT1H
BEGIN:VTIMEZONE
TZID:Europe/Stockholm
BEGIN:DAYLIGHT
TZOFFSETFROM:+0100
TZOFFSETTO:+0200
TZNAME:CEST
DTSTART:20220327T010000
END:DAYLIGHT
BEGIN:STANDARD
TZOFFSETFROM:+0200
TZOFFSETTO:+0100
TZNAME:CET
DTSTART:20221030T010000
END:STANDARD
BEGIN:DAYLIGHT
TZOFFSETFROM:+0100
TZOFFSETTO:+0200
TZNAME:CEST
DTSTART:20230326T010000
END:DAYLIGHT
BEGIN:STANDARD
TZOFFSETFROM:+0200
TZOFFSETTO:+0100
TZNAME:CET
DTSTART:20231029T010000
END:STANDARD
BEGIN:DAYLIGHT
TZOFFSETFROM:+0100
TZOFFSETTO:+0200
TZNAME:CEST
DTSTART:20240331T010000
END:DAYLIGHT
BEGIN:STANDARD
TZOFFSETFROM:+0200
TZOFFSETTO:+0100
TZNAME:CET
DTSTART:20241027T010000
END:STANDARD
END:VTIMEZONE
BEGIN:VEVENT
DTSTART;TZID=Europe/Stockholm:20230214T080000
DTEND;TZID=Europe/Stockholm:20230216T170000
DTSTAMP:20260423T205808
CREATED:20220905T124355Z
LAST-MODIFIED:20220905T124355Z
UID:1322-1676361600-1676566800@www.johannelund.nu
SUMMARY:Campusdagar
DESCRIPTION:
URL:https://www.johannelund.nu/event/campusdagar/
END:VEVENT
BEGIN:VEVENT
DTSTART;TZID=Europe/Stockholm:20230215T180000
DTEND;TZID=Europe/Stockholm:20230215T210000
DTSTAMP:20260423T205808
CREATED:20230126T082642Z
LAST-MODIFIED:20230127T134141Z
UID:2286-1676484000-1676494800@www.johannelund.nu
SUMMARY:Hemafton
DESCRIPTION:Festkväll för skolans studenter och personal. Gärna med kläder kopplade till ditt födelseår. Det blir den klassiska måltiden etiopisk pepparsås\, lekar\, missionsauktion med mera!\nInfo om anmälan kommer. \nLötenkyrkans församlingssal.
URL:https://www.johannelund.nu/event/hemafton-3/
END:VEVENT
END:VCALENDAR