BEGIN:VCALENDAR
VERSION:2.0
PRODID:-//Johannelunds teologiska högskola - ECPv6.15.20//NONSGML v1.0//EN
CALSCALE:GREGORIAN
METHOD:PUBLISH
X-WR-CALNAME:Johannelunds teologiska högskola
X-ORIGINAL-URL:https://www.johannelund.nu
X-WR-CALDESC:Händelser för Johannelunds teologiska högskola
REFRESH-INTERVAL;VALUE=DURATION:PT1H
X-Robots-Tag:noindex
X-PUBLISHED-TTL:PT1H
BEGIN:VTIMEZONE
TZID:Europe/Stockholm
BEGIN:DAYLIGHT
TZOFFSETFROM:+0100
TZOFFSETTO:+0200
TZNAME:CEST
DTSTART:20220327T010000
END:DAYLIGHT
BEGIN:STANDARD
TZOFFSETFROM:+0200
TZOFFSETTO:+0100
TZNAME:CET
DTSTART:20221030T010000
END:STANDARD
BEGIN:DAYLIGHT
TZOFFSETFROM:+0100
TZOFFSETTO:+0200
TZNAME:CEST
DTSTART:20230326T010000
END:DAYLIGHT
BEGIN:STANDARD
TZOFFSETFROM:+0200
TZOFFSETTO:+0100
TZNAME:CET
DTSTART:20231029T010000
END:STANDARD
BEGIN:DAYLIGHT
TZOFFSETFROM:+0100
TZOFFSETTO:+0200
TZNAME:CEST
DTSTART:20240331T010000
END:DAYLIGHT
BEGIN:STANDARD
TZOFFSETFROM:+0200
TZOFFSETTO:+0100
TZNAME:CET
DTSTART:20241027T010000
END:STANDARD
END:VTIMEZONE
BEGIN:VEVENT
DTSTART;VALUE=DATE:20230411
DTEND;VALUE=DATE:20230421
DTSTAMP:20260423T231825
CREATED:20230331T114913Z
LAST-MODIFIED:20230331T114913Z
UID:2837-1681171200-1682035199@www.johannelund.nu
SUMMARY:Studieresa till Israel: Det heliga landet i historia och nutid
DESCRIPTION:Den 11–20 april 2023 anordnar Johannelund och Fjellstedska en resa studieresa till Galileen och Jerusalem för deltagare i  kursen HK0252 – Det heliga landet i historia och nutid.  Inom ramen för kursen läser vi om biblisk arkeologi samt om den politiskt-religiösa situationen i landet.\nResan är en studieresa som syftar till en fördjupad förståelse för judendomens rötter och utveckling i det heliga landet\nkristendomens uppkomst interaktionen mellan judendom\, kristendom och islam i det heliga landet. \nVi besöker bland annat:\n·         Nasaret med Bebådelsekyrkan\n·         Saligprisningarnas berg\n·         Genesaret och andra platser där Jesus och lärjungarna verkade\n·         Jerusalem med tempelplatsen\, Västra muren och Olivberget\, Övre salen\n·         Döda havet\n·         Betlehem
URL:https://www.johannelund.nu/event/studieresa-till-israel-det-heliga-landet-i-historia-och-nutid/
END:VEVENT
END:VCALENDAR