BEGIN:VCALENDAR
VERSION:2.0
PRODID:-//Johannelunds teologiska högskola - ECPv6.15.20//NONSGML v1.0//EN
CALSCALE:GREGORIAN
METHOD:PUBLISH
X-ORIGINAL-URL:https://www.johannelund.nu
X-WR-CALDESC:Händelser för Johannelunds teologiska högskola
REFRESH-INTERVAL;VALUE=DURATION:PT1H
X-Robots-Tag:noindex
X-PUBLISHED-TTL:PT1H
BEGIN:VTIMEZONE
TZID:Europe/Stockholm
BEGIN:DAYLIGHT
TZOFFSETFROM:+0100
TZOFFSETTO:+0200
TZNAME:CEST
DTSTART:20220327T010000
END:DAYLIGHT
BEGIN:STANDARD
TZOFFSETFROM:+0200
TZOFFSETTO:+0100
TZNAME:CET
DTSTART:20221030T010000
END:STANDARD
BEGIN:DAYLIGHT
TZOFFSETFROM:+0100
TZOFFSETTO:+0200
TZNAME:CEST
DTSTART:20230326T010000
END:DAYLIGHT
BEGIN:STANDARD
TZOFFSETFROM:+0200
TZOFFSETTO:+0100
TZNAME:CET
DTSTART:20231029T010000
END:STANDARD
BEGIN:DAYLIGHT
TZOFFSETFROM:+0100
TZOFFSETTO:+0200
TZNAME:CEST
DTSTART:20240331T010000
END:DAYLIGHT
BEGIN:STANDARD
TZOFFSETFROM:+0200
TZOFFSETTO:+0100
TZNAME:CET
DTSTART:20241027T010000
END:STANDARD
END:VTIMEZONE
BEGIN:VEVENT
DTSTART;TZID=Europe/Stockholm:20230109T080000
DTEND;TZID=Europe/Stockholm:20230113T170000
DTSTAMP:20260423T170510
CREATED:20220905T124156Z
LAST-MODIFIED:20220905T124156Z
UID:1318-1673251200-1673629200@www.johannelund.nu
SUMMARY:Campusvecka
DESCRIPTION:
URL:https://www.johannelund.nu/event/campusvecka-2/
END:VEVENT
BEGIN:VEVENT
DTSTART;TZID=Europe/Stockholm:20230112T183000
DTEND;TZID=Europe/Stockholm:20230112T200000
DTSTAMP:20260423T170510
CREATED:20221209T094929Z
LAST-MODIFIED:20221209T132025Z
UID:2182-1673548200-1673553600@www.johannelund.nu
SUMMARY:Etiopien/Eritrea-seminarium
DESCRIPTION:Ms Marianne Nilsson the SEM ”Music-missionary” will present a seminar with the title Hymn Books – a key to Christian faith. She will discuss how the SEM translated and printed 5 hymn books in 5 different languages in 20 years. (See below.) Music has always been essential in mission and church life. We look forward to this seminar. Welcome Marianne! \nHymn Books – a key to Christian faith\nWithin approximately 20 years the SEM-missionaries printed hymnbooks in 5 different\nlanguages. It looks like a planned strategy\, but was it really?\nAmharic: Yagubae Mazmurat 1881\, 2 nd ed. 1887\nOromo: Faarsaa fi Weeduu 1886\nTigrinya: Mazmur Selam 1900\nTigre: Derus Tseyon 1902\nKunama: Anana Kitaba 1903 \nWho translated the hymns? Why?\nWhat type of hymns were selected for translation?\nWhat was important\, text or music?\nWhy printing hymnbooks?\nHow were the translated hymns received? \nMarianne Nilsson \nLink: https://meet.google.com/sfm-cnbx-ibn?authuser=1&hl=sv \nComing seminar: 23.2\, 30.3\, 27.4 och 25.5.
URL:https://www.johannelund.nu/event/etiopien-eritrea-seminarium/
END:VEVENT
BEGIN:VEVENT
DTSTART;TZID=Europe/Stockholm:20230126T173000
DTEND;TZID=Europe/Stockholm:20230126T193000
DTSTAMP:20260423T170510
CREATED:20230126T134727Z
LAST-MODIFIED:20230126T134727Z
UID:2328-1674754200-1674761400@www.johannelund.nu
SUMMARY:
DESCRIPTION:Tema: Missionsrörelsen sår och planterar i Sverige \n\n\nMartin Alexandersson\, Utvecklingskonsulent på EFS\, samtalar med Mia Ström\, Sverigechef EFS\, om EFS nyplanteringsarbete. \n\n\n17:30-18:00 serveras pizzabuffé för den som vill äta och delta på plats. Anmälan (inkl ev. specialkost) senast 20 mars till margareta.forsberg@efs.nu Programmet startar 18:00. \nLokal: ”Lina” EFS kansli eller via länk.
URL:https://www.johannelund.nu/event/2328/
END:VEVENT
BEGIN:VEVENT
DTSTART;TZID=Europe/Stockholm:20230202T173000
DTEND;TZID=Europe/Stockholm:20230202T193000
DTSTAMP:20260423T170510
CREATED:20230126T134426Z
LAST-MODIFIED:20230126T134612Z
UID:2326-1675359000-1675366200@www.johannelund.nu
SUMMARY:Stiftelsegruppsträff
DESCRIPTION:Tema: Norrbotten? Nej\, Norrtoppen!\nAnton Björkman\, Regional missionsledare i Norrbotten samtalar med Mia Ström\, Sverigechef EFS\, om missionsrörelsens hjärta och uppdrag – att nå de onådda i Norrbotten. \n17:30-18:00 serveras pizzabuffé för den som vill äta och delta på plats. Anmälan (inkl ev. specialkost) senast 30 januari till margareta.forsberg@efs.nu Programmet startar 18:00. \nLokal: ”Lina” EFS kansli eller via länk.
URL:https://www.johannelund.nu/event/stiftelsegruppstraff-4/
END:VEVENT
BEGIN:VEVENT
DTSTART;TZID=Europe/Stockholm:20230210T123000
DTEND;TZID=Europe/Stockholm:20230210T131000
DTSTAMP:20260423T170510
CREATED:20230203T095608Z
LAST-MODIFIED:20230203T095608Z
UID:2372-1676032200-1676034600@www.johannelund.nu
SUMMARY:Grekiskalunch
DESCRIPTION:Grekiskaluncherna är tillbaka! Start 10 februari.12:30 – 13:10\, varannan fredag under terminen. Vi tar med egen lunch och läser grekiska tillsammans. I vår kommer vi att utgå från Svenska Bibelsällskapets häfte Mötesplatser: 10 texter för studier och förberedelser inför predikan. \nTio texter har valts ut som återges i den grekiska grundtexten\, i Bibel 2000s översättning samt i provöversättning från arbetet med den kommande översättningen NT26. Utöver det ges en översättarkommentar till varje textstycke som lyfter språksrelaterade frågor som texten väcker. \nAlla är välkomna! Vi läser texterna tillsammans och diskuterar översättningsfrågor. Man behöver inte ha förberett något innan. Häftet kan laddas ner gratis som pdf (https://www.xn--bibelsllskapet-bib.se/wp-content/uploads/2022/12/motesplatser_nedladdning.pdf) eller köpas i tryckt format i Svenska Bibelsällskapets onlinebutik för en billig summa.
URL:https://www.johannelund.nu/event/grekiskalunch/
END:VEVENT
BEGIN:VEVENT
DTSTART;TZID=Europe/Stockholm:20230213T083000
DTEND;TZID=Europe/Stockholm:20230213T163000
DTSTAMP:20260423T170510
CREATED:20220905T124257Z
LAST-MODIFIED:20230210T083246Z
UID:1320-1676277000-1676305800@www.johannelund.nu
SUMMARY:Roseniusföresläsningarna
DESCRIPTION:Roseniusföreläsningarna\nEn festdag för Tomas Nygren  \n \nPROGRAM*:\n08.30 Morgonbön\n08.45 Välkommen\n09.00 LarsOlov Eriksson\, Något om Predikan\n09.25 Torbjörn Johansson\, ”…så godnatt\, kristendom”: Om skillnaden mellan teologi och religionsvetenskap\n09:50 Tommy Hargemark\, Predikanters oförmåga att predika evangelium\n10:15 Hans Lindholm bokrelease av Herrens bön. Lutherskrifter III \n10.20 Fika i församlingssalen \n10.45 Torbjörn Larspers\, Om EFS styrelses sammansättnimg alltfrån starten 1856 och framåt\, förändringar o stadgeändringar etc\n11.10 Olof Edsinger\, Lag och evangelium i en narcissistisk tid\n11.35 Kenneth Nordgren\, Pastoral-teologiska spänningar – för en reformerad kyrka \n12.00 Lunch i församlingssalen \n13.15 Kjell O Lejon\, ”Pro pace et fraternitate gentium”: Om Abiy Ahmed Ali och Nobels fredspris 2019\n13.15 Tomas Ekstrand\, Folkkyrklighet och antinomism\n13.55 Klas Lundström\, Att förmedla budskap över kulturgränser \n14.20 Fika i församlingssalen \n15.00 Beth Elness-Hanson\, ”Good Christian” is Bad Theology: Toward a Lutheran\n15.25 Lars-Göran Sundberg\, Vad är en själavårdande predikan?\n15.50 Avslutning \n18.00 Middag i församlingssalen \n* Med reservation för korrigeringar. \nFIKA\, MAT OCH ANMÄLAN:\nAnmälan: är nu stängd men programmet är öppet för alla och fika betalas på plats genom att swisha. \n 
URL:https://www.johannelund.nu/event/roseniusforeslasningarna/
END:VEVENT
BEGIN:VEVENT
DTSTART;TZID=Europe/Stockholm:20230214T080000
DTEND;TZID=Europe/Stockholm:20230216T170000
DTSTAMP:20260423T170510
CREATED:20220905T124355Z
LAST-MODIFIED:20220905T124355Z
UID:1322-1676361600-1676566800@www.johannelund.nu
SUMMARY:Campusdagar
DESCRIPTION:
URL:https://www.johannelund.nu/event/campusdagar/
END:VEVENT
BEGIN:VEVENT
DTSTART;TZID=Europe/Stockholm:20230215T180000
DTEND;TZID=Europe/Stockholm:20230215T210000
DTSTAMP:20260423T170510
CREATED:20230126T082642Z
LAST-MODIFIED:20230127T134141Z
UID:2286-1676484000-1676494800@www.johannelund.nu
SUMMARY:Hemafton
DESCRIPTION:Festkväll för skolans studenter och personal. Gärna med kläder kopplade till ditt födelseår. Det blir den klassiska måltiden etiopisk pepparsås\, lekar\, missionsauktion med mera!\nInfo om anmälan kommer. \nLötenkyrkans församlingssal.
URL:https://www.johannelund.nu/event/hemafton-3/
END:VEVENT
BEGIN:VEVENT
DTSTART;TZID=Europe/Stockholm:20230223T183000
DTEND;TZID=Europe/Stockholm:20230223T200000
DTSTAMP:20260423T170510
CREATED:20230110T084255Z
LAST-MODIFIED:20230112T151252Z
UID:2241-1677177000-1677182400@www.johannelund.nu
SUMMARY:Etiopien/Eritrea-seminarium
DESCRIPTION:Länk till seminarium: https://meet.google.com/sfm-cnbx-ibn?authuser=1&hl=sv \nKommande seminarium: 30 mars\, 27 april och 25 maj.
URL:https://www.johannelund.nu/event/etiopien-eritrea-seminarium-2/
END:VEVENT
BEGIN:VEVENT
DTSTART;TZID=Europe/Stockholm:20230227T131500
DTEND;TZID=Europe/Stockholm:20230227T163000
DTSTAMP:20260423T170510
CREATED:20220927T075837Z
LAST-MODIFIED:20230228T095321Z
UID:1974-1677503700-1677515400@www.johannelund.nu
SUMMARY:Torbjörn Larspers docentföreläsning
DESCRIPTION:Kyrkohistoria som forskningsämne \nTorbjörn Larspers är lektor i historisk praktisk teologi och docent i kyrkohistoria. \nFrån kl 15.00: korta presentationer av Johannelunds mastersstudenters uppsatser. \nFölj med via länk om du inte är på plats på Johannelund: meet.google.com/pto-zkch-smr 
URL:https://www.johannelund.nu/event/forskningsseminarium-3/
END:VEVENT
BEGIN:VEVENT
DTSTART;TZID=Europe/Stockholm:20230313T093000
DTEND;TZID=Europe/Stockholm:20230313T143000
DTSTAMP:20260423T170510
CREATED:20230126T085202Z
LAST-MODIFIED:20230221T075508Z
UID:2293-1678699800-1678717800@www.johannelund.nu
SUMMARY:Öppet hus!
DESCRIPTION:Är du nyfiken på Johannelund och våra utbildningar? Välkommen på öppet hus! Du får se lokalerna\, träffa lärare och studenter\, få information om våra utbildningar\, prova på en föreläsning osv.\nMer information hittar du här: www.johannelund.nu/oppet-hus/ där du även kan beställa lunch\, senast 8 mars. \n\n\n\nVarmt välkommen! \n\n\n\n\n\n\nProgram\n9.30 Drop-in fika\n10.00 Välkommen och information om Johannelund\n10.45 Föreläsning i Teologisk etik med Tomas Nygren\n12.15 Lunchpaus (Mat går att förbeställa via formuläret på denna sida\, annars går det bra att ta med egen mat för den som önskar)\n13.10 Rundvandring\n13.40 Information om studier vid Johannelund och programutbud\n-14.30 \nHar du inte möjlighet att vara med på plats i Uppsala under dagen? Då kan du följa delar av programmet via videolänk: https://meet.google.com/gwb-soaf-pop
URL:https://www.johannelund.nu/event/oppet-hus/
END:VEVENT
BEGIN:VEVENT
DTSTART;TZID=Europe/Stockholm:20230320T131500
DTEND;TZID=Europe/Stockholm:20230320T144500
DTSTAMP:20260423T170510
CREATED:20230126T140015Z
LAST-MODIFIED:20230126T140015Z
UID:2336-1679318100-1679323500@www.johannelund.nu
SUMMARY:Föreläsning "Sveriges kristna arv"
DESCRIPTION:Kjell O Lejon ”Sveriges kristna arv”\nKjell O Lejon är vice rektor och professor i kyrkohistoria\nÖvre salen alt (länk)
URL:https://www.johannelund.nu/event/forelasning-sveriges-kristna-arv/
END:VEVENT
BEGIN:VEVENT
DTSTART;TZID=Europe/Stockholm:20230323T080000
DTEND;TZID=Europe/Stockholm:20230324T170000
DTSTAMP:20260423T170510
CREATED:20230126T083041Z
LAST-MODIFIED:20230317T135954Z
UID:2288-1679558400-1679677200@www.johannelund.nu
SUMMARY:Homiletikdagar ”Predikan i en sekulariserad tid”
DESCRIPTION:Homiletikdagar 23-24 mars\nVarje år anordnar Johannelund predikodagar. Temat för dagarna skiftar. Detta år är det ”predikan i en sekulariserad tid”.  Detta år är det ”predikan i en sekulariserad tid”. Under dagarna blir det även praktiska inslag där vi övar förmåga att nå fram till den sekulariserade människan.\nDagarna är obligatoriska för dig som går prästprogram. \nMedverkande:\n-Tomas Nygren och Klas Lundström\, lärare och tidigare lärare på Johannelund\, inleder dagarna med teologiska reflektioner över ämnet. \n-Lasse Levén\, pastor i Furuhöjdskyrkan i Alunda nordost om Uppsala\, arbetar nu med nyplantering. \n-Mattias Nordström\, tidigare Johannelundselev\, har arbetat som präst i Sa Clara kyrka och arbetar nu med diakoni vid Samariterhemmet\, Uppsala. \n-Kerstin Oderhem\, EFS missionsföreståndare \nProgram\nPredikan i en sekulariserad tid\nPlats: Aulan \n23 mars\n8.30-9.10  Introduktion\n9.20-10  Teologiska reflektioner\, Tomas Nygren ”Erbjuden och mottagen nåd” och Klas Lundström ”Vad tror svensken på och vägar till kristen tron”\n10.00  Andakt\nKaffe\n10.45-12.15 Lasse Levén ”Att predika för den sekulariserade människan 1”\nLunch\n13.15-14.10 Lasse Levén ”Illustrationer och drama som kommunikationsmedel”\n14.20-15 Grupparbete drama\n15.00 Kaffe\n15.30 Spela upp dramer\, samtal\n16.30 Slut på dagen \n24 mars\n8.30-9.00  Mattias Nordström ”Att predika för den sekulariserade människan 2”\n09.00-10.00  Kerstin Oderhem ”Att predika för den sekulariserade människan 3”\n10.00  Andakt\nKaffe\n10.45-12.00  Tommy Hagermark ”Vittnesbördets funktion och plats i predikan”\nAvslutning  \nVälkommen till intressanta och givande dagar om ett viktigt tema! \nFör dig som följer dagarna via nätet är länkarna:\n23 mars  meet.google.com/phe-ocdc-tut\n24 mars meet.google.com/qut-azfr-ndb
URL:https://www.johannelund.nu/event/homiletikdagar/
END:VEVENT
BEGIN:VEVENT
DTSTART;TZID=Europe/Stockholm:20230323T173000
DTEND;TZID=Europe/Stockholm:20230323T193000
DTSTAMP:20260423T170510
CREATED:20230126T135324Z
LAST-MODIFIED:20230126T135527Z
UID:2334-1679592600-1679599800@www.johannelund.nu
SUMMARY:Stiftelsegruppsträff
DESCRIPTION:Tema: Missionsrörelsen sår och planterar i Sverige \n\n\nMartin Alexandersson\, Utvecklingskonsulent på EFS\, samtalar med Mia Ström\, Sverigechef EFS\, om EFS nyplanteringsarbete. \n\n\n17:30-18:00 serveras pizzabuffé för den som vill äta och delta på plats. Anmälan (inkl ev. specialkost) senast 20 mars till margareta.forsberg@efs.nu Programmet startar 18:00. \nLokal: ”Lina” EFS kansli eller via länk.
URL:https://www.johannelund.nu/event/stiftelsegruppstraff-7/
END:VEVENT
BEGIN:VEVENT
DTSTART;TZID=Europe/Stockholm:20230330T183000
DTEND;TZID=Europe/Stockholm:20230330T200000
DTSTAMP:20260423T170510
CREATED:20230110T084359Z
LAST-MODIFIED:20230227T123201Z
UID:2243-1680201000-1680206400@www.johannelund.nu
SUMMARY:Etiopien/Eritrea-seminarium
DESCRIPTION:Bengt Hjort kommer att presentera sitt arbete med att dokumentera historia kring Etiopiska-Evangelikala Lutherska kyrkan i Etiopien  (ELM/Bibletrue friends). Första boken i serien är redan tryckt på svenska och engelska. \nLänk till seminarium: https://meet.google.com/sfm-cnbx-ibn?authuser=1&hl=sv \nKommande seminarium: 27 april och 25 maj.
URL:https://www.johannelund.nu/event/etiopien-eritrea-seminarium-3/
END:VEVENT
BEGIN:VEVENT
DTSTART;VALUE=DATE:20230411
DTEND;VALUE=DATE:20230421
DTSTAMP:20260423T170510
CREATED:20230331T114913Z
LAST-MODIFIED:20230331T114913Z
UID:2837-1681171200-1682035199@www.johannelund.nu
SUMMARY:Studieresa till Israel: Det heliga landet i historia och nutid
DESCRIPTION:Den 11–20 april 2023 anordnar Johannelund och Fjellstedska en resa studieresa till Galileen och Jerusalem för deltagare i  kursen HK0252 – Det heliga landet i historia och nutid.  Inom ramen för kursen läser vi om biblisk arkeologi samt om den politiskt-religiösa situationen i landet.\nResan är en studieresa som syftar till en fördjupad förståelse för judendomens rötter och utveckling i det heliga landet\nkristendomens uppkomst interaktionen mellan judendom\, kristendom och islam i det heliga landet. \nVi besöker bland annat:\n·         Nasaret med Bebådelsekyrkan\n·         Saligprisningarnas berg\n·         Genesaret och andra platser där Jesus och lärjungarna verkade\n·         Jerusalem med tempelplatsen\, Västra muren och Olivberget\, Övre salen\n·         Döda havet\n·         Betlehem
URL:https://www.johannelund.nu/event/studieresa-till-israel-det-heliga-landet-i-historia-och-nutid/
END:VEVENT
BEGIN:VEVENT
DTSTART;TZID=Europe/Stockholm:20230424T131500
DTEND;TZID=Europe/Stockholm:20230424T144500
DTSTAMP:20260423T170510
CREATED:20230126T140227Z
LAST-MODIFIED:20230420T085032Z
UID:2338-1682342100-1682347500@www.johannelund.nu
SUMMARY:Forskningsseminarium ”Konturer till en själavårdsteologi” 
DESCRIPTION:Lars-Göran Sundberg ”Konturer till en själavårdsteologi” \nLars-Göran Sundberg är lektor i historisk-praktisk teologi\, själavård och religionspsykologi \nÖvre salen alt. (länk)
URL:https://www.johannelund.nu/event/forelasning-konturer-till-en-sjalavardsteologi/
END:VEVENT
BEGIN:VEVENT
DTSTART;TZID=Europe/Stockholm:20230425T180000
DTEND;TZID=Europe/Stockholm:20230425T210000
DTSTAMP:20260423T170510
CREATED:20230315T103041Z
LAST-MODIFIED:20230411T092129Z
UID:2761-1682445600-1682456400@www.johannelund.nu
SUMMARY:Hemafton
DESCRIPTION:En festkväll för skolans studenter och personal.\nArr. åk 1. Mer info kommer.
URL:https://www.johannelund.nu/event/hemafton-4/
END:VEVENT
BEGIN:VEVENT
DTSTART;TZID=Europe/Stockholm:20230426T173000
DTEND;TZID=Europe/Stockholm:20230426T193000
DTSTAMP:20260423T170510
CREATED:20230126T134841Z
LAST-MODIFIED:20230126T134841Z
UID:2330-1682530200-1682537400@www.johannelund.nu
SUMMARY:Stiftelsegruppsträff
DESCRIPTION:Tema: Missionsrörelsens hjärta i Svenska kyrkan \n\n\nMagnus Persson\, Samverkanssekreterare och Inspiratör i EFS\, samtalar med Mia Ström\, Sverigechef EFS\, om missionsrörelsens hjärta och uppdrag i Svenska kyrkan. \n\n\n17:30-18:00 serveras pizzabuffé för den som vill äta och delta på plats. Anmälan (inkl ev. specialkost) senast 21 apriltill margareta.forsberg@efs.nu Programmet startar 18:00. \nLokal: ”Lina” EFS kansli eller via länk
URL:https://www.johannelund.nu/event/stiftelsegruppstraff-5/
END:VEVENT
BEGIN:VEVENT
DTSTART;TZID=Europe/Stockholm:20230427T183000
DTEND;TZID=Europe/Stockholm:20230427T200000
DTSTAMP:20260423T170510
CREATED:20230110T084446Z
LAST-MODIFIED:20230414T065612Z
UID:2245-1682620200-1682625600@www.johannelund.nu
SUMMARY:Etiopien/Eritrea-seminarium
DESCRIPTION:Det här seminariet kommer att ledas av Dr. Öyvind Eide med titeln: ”Perspectives on the missions’ history of influence in Ethiopia”.\n\nTerminens sista seminarium är 25 maj 18:30 och kommer att ledas av Rev. Erik Johansson\, SEM Mission Secretary\, som just har besökt Eritrea. Han och andra kommer att presentera ny information därifrån och från ”the Horn”.\n\nLänk till seminarierna: https://meet.google.com/sfm-cnbx-ibn?authuser=1&hl=sv \n 
URL:https://www.johannelund.nu/event/etiopien-eritrea-seminarium-4/
END:VEVENT
BEGIN:VEVENT
DTSTART;TZID=Europe/Stockholm:20230428T083000
DTEND;TZID=Europe/Stockholm:20230428T121500
DTSTAMP:20260423T170510
CREATED:20230428T112302Z
LAST-MODIFIED:20230428T112302Z
UID:2893-1682670600-1682684100@www.johannelund.nu
SUMMARY:Dialogkonferens
DESCRIPTION:Dialogkonferens. Plats: Storstugan i Lötenkyrkan. Dialogkonferensen arrangeras vartannat år och är en möjlighet för studenter och personal att mötas i det goda samtalet utifrån olika perspektiv och erfarenheter. I år är temat “Ekumenik: ett möte över samfundsgränser”. Dagen inleds med att studentkåren bjuder på frukost kl 8.30. Välkommen!
URL:https://www.johannelund.nu/event/dialogkonferens/
END:VEVENT
BEGIN:VEVENT
DTSTART;TZID=Europe/Stockholm:20230511T150000
DTEND;TZID=Europe/Stockholm:20230511T163000
DTSTAMP:20260423T170510
CREATED:20230428T112414Z
LAST-MODIFIED:20230505T090716Z
UID:2895-1683817200-1683822600@www.johannelund.nu
SUMMARY:Teologicafé
DESCRIPTION:“MIN ANDLIGA RESA” \nTORSDAG 11 MAJ kl 15:00-16.30 \nTomas Nygren intervjuar\nMattias Neve och Torbjörn Larspers. \nSkolan bjuder på fika.\nSal 2: Välkommen!
URL:https://www.johannelund.nu/event/teologicafe-2/
END:VEVENT
BEGIN:VEVENT
DTSTART;VALUE=DATE:20230519
DTEND;VALUE=DATE:20230522
DTSTAMP:20260423T170510
CREATED:20230428T112719Z
LAST-MODIFIED:20230428T112737Z
UID:2897-1684454400-1684713599@www.johannelund.nu
SUMMARY:EFS årskonferens
DESCRIPTION:Fira Kristi himmelsfärd i Umeå!\nEFS årskonferens är i Umeå den 19-21 maj och lärare och studenter.\nHemsidan: https://konferens.efs.nu/
URL:https://www.johannelund.nu/event/efs-arskonferens/
END:VEVENT
BEGIN:VEVENT
DTSTART;TZID=Europe/Stockholm:20230522T131500
DTEND;TZID=Europe/Stockholm:20230522T144500
DTSTAMP:20260423T170510
CREATED:20230126T140413Z
LAST-MODIFIED:20230126T140413Z
UID:2340-1684761300-1684766700@www.johannelund.nu
SUMMARY:Presentation av bokmanus\, Filosofi för teologer
DESCRIPTION:Stefan Lindholm Presentation av bokmanus\, Filosofi för teologer\nStefan Lindholm är lektor i systematisk teologi och religionsfilosofi. \nLokal: Övre salen alt (länk)
URL:https://www.johannelund.nu/event/presentation-av-bokmanus-filosofi-for-teologer/
END:VEVENT
BEGIN:VEVENT
DTSTART;TZID=Europe/Stockholm:20230525T183000
DTEND;TZID=Europe/Stockholm:20230525T200000
DTSTAMP:20260423T170510
CREATED:20230110T095112Z
LAST-MODIFIED:20230112T151025Z
UID:2247-1685039400-1685044800@www.johannelund.nu
SUMMARY:Etiopien/Eritrea-seminarium
DESCRIPTION:Länk till seminarium: https://meet.google.com/sfm-cnbx-ibn?authuser=1&hl=sv
URL:https://www.johannelund.nu/event/etiopien-eritrea-seminarium-5/
END:VEVENT
BEGIN:VEVENT
DTSTART;TZID=Europe/Stockholm:20230526T090000
DTEND;TZID=Europe/Stockholm:20230526T104500
DTSTAMP:20260423T170510
CREATED:20220905T124521Z
LAST-MODIFIED:20230316T085419Z
UID:1326-1685091600-1685097900@www.johannelund.nu
SUMMARY:Avslutning bibelskolan
DESCRIPTION:Plats: församlingssalen\nFika efteråt i samma sal.\nVälkommen!
URL:https://www.johannelund.nu/event/avslutning-bibelskolan/
END:VEVENT
BEGIN:VEVENT
DTSTART;TZID=Europe/Stockholm:20230601T173000
DTEND;TZID=Europe/Stockholm:20230601T193000
DTSTAMP:20260423T170510
CREATED:20230126T134953Z
LAST-MODIFIED:20230126T135219Z
UID:2332-1685640600-1685647800@www.johannelund.nu
SUMMARY:Stiftelsegruppsträff
DESCRIPTION:Tema: Missionsrörelsens hjärta för att gestalta evangeliet bland människor med muslimsk bakgrund. \n\n\nFrida och Andreas Thornell\, inspiratörer i EFS\, samtalar med Mia Ström\, Sverigechef EFS. \n\n\n17:30-18:00 serveras pizzabuffé för den som vill äta och delta på plats. Anmälan (inkl ev. specialkost) senast 29 maj till margareta.forsberg@efs.nu Programmet startar 18:00. \nLokal: ”Lina! EFS kansli eller via länk
URL:https://www.johannelund.nu/event/stiftelsegruppstraff-6/
END:VEVENT
BEGIN:VEVENT
DTSTART;TZID=Europe/Stockholm:20230602T090000
DTEND;TZID=Europe/Stockholm:20230602T110000
DTSTAMP:20260423T170510
CREATED:20230428T113041Z
LAST-MODIFIED:20230428T113041Z
UID:2901-1685696400-1685703600@www.johannelund.nu
SUMMARY:Högskolans avslutningsgudstjänst
DESCRIPTION:Gudstjänsten firas i Lötenkyrkan med fika efteråt.
URL:https://www.johannelund.nu/event/hogskolans-avslutningsgudstjanst/
END:VEVENT
BEGIN:VEVENT
DTSTART;VALUE=DATE:20230605
DTEND;VALUE=DATE:20230606
DTSTAMP:20260423T170510
CREATED:20230428T112823Z
LAST-MODIFIED:20230428T112823Z
UID:2899-1685923200-1686009599@www.johannelund.nu
SUMMARY:Omtentadag
DESCRIPTION:Anmälan görs till studierektorn ( studierektor@johannelund.nu) senast 15 maj.
URL:https://www.johannelund.nu/event/omtentadag/
END:VEVENT
BEGIN:VEVENT
DTSTART;TZID=Europe/Stockholm:20230821T080000
DTEND;TZID=Europe/Stockholm:20230824T170000
DTSTAMP:20260423T170510
CREATED:20230803T112159Z
LAST-MODIFIED:20230803T112159Z
UID:3166-1692604800-1692896400@www.johannelund.nu
SUMMARY:Introduktionsdagar hösten 2023
DESCRIPTION:Här kan du se programmet för introduktionsdagarna. Välj för grund- eller avancerad nivå. \nVälkommen grundnivå \n \nVälkommen avancerad nivå
URL:https://www.johannelund.nu/event/introduktionsdagar-hosten-2023/
END:VEVENT
END:VCALENDAR