BEGIN:VCALENDAR
VERSION:2.0
PRODID:-//Johannelunds teologiska högskola - ECPv6.15.20//NONSGML v1.0//EN
CALSCALE:GREGORIAN
METHOD:PUBLISH
X-ORIGINAL-URL:https://www.johannelund.nu
X-WR-CALDESC:Händelser för Johannelunds teologiska högskola
REFRESH-INTERVAL;VALUE=DURATION:PT1H
X-Robots-Tag:noindex
X-PUBLISHED-TTL:PT1H
BEGIN:VTIMEZONE
TZID:Europe/Stockholm
BEGIN:DAYLIGHT
TZOFFSETFROM:+0100
TZOFFSETTO:+0200
TZNAME:CEST
DTSTART:20220327T010000
END:DAYLIGHT
BEGIN:STANDARD
TZOFFSETFROM:+0200
TZOFFSETTO:+0100
TZNAME:CET
DTSTART:20221030T010000
END:STANDARD
BEGIN:DAYLIGHT
TZOFFSETFROM:+0100
TZOFFSETTO:+0200
TZNAME:CEST
DTSTART:20230326T010000
END:DAYLIGHT
BEGIN:STANDARD
TZOFFSETFROM:+0200
TZOFFSETTO:+0100
TZNAME:CET
DTSTART:20231029T010000
END:STANDARD
BEGIN:DAYLIGHT
TZOFFSETFROM:+0100
TZOFFSETTO:+0200
TZNAME:CEST
DTSTART:20240331T010000
END:DAYLIGHT
BEGIN:STANDARD
TZOFFSETFROM:+0200
TZOFFSETTO:+0100
TZNAME:CET
DTSTART:20241027T010000
END:STANDARD
END:VTIMEZONE
BEGIN:VEVENT
DTSTART;TZID=Europe/Stockholm:20230424T131500
DTEND;TZID=Europe/Stockholm:20230424T144500
DTSTAMP:20260424T015740
CREATED:20230126T140227Z
LAST-MODIFIED:20230420T085032Z
UID:2338-1682342100-1682347500@www.johannelund.nu
SUMMARY:Forskningsseminarium ”Konturer till en själavårdsteologi” 
DESCRIPTION:Lars-Göran Sundberg ”Konturer till en själavårdsteologi” \nLars-Göran Sundberg är lektor i historisk-praktisk teologi\, själavård och religionspsykologi \nÖvre salen alt. (länk)
URL:https://www.johannelund.nu/event/forelasning-konturer-till-en-sjalavardsteologi/
END:VEVENT
BEGIN:VEVENT
DTSTART;TZID=Europe/Stockholm:20230425T180000
DTEND;TZID=Europe/Stockholm:20230425T210000
DTSTAMP:20260424T015740
CREATED:20230315T103041Z
LAST-MODIFIED:20230411T092129Z
UID:2761-1682445600-1682456400@www.johannelund.nu
SUMMARY:Hemafton
DESCRIPTION:En festkväll för skolans studenter och personal.\nArr. åk 1. Mer info kommer.
URL:https://www.johannelund.nu/event/hemafton-4/
END:VEVENT
BEGIN:VEVENT
DTSTART;TZID=Europe/Stockholm:20230426T173000
DTEND;TZID=Europe/Stockholm:20230426T193000
DTSTAMP:20260424T015740
CREATED:20230126T134841Z
LAST-MODIFIED:20230126T134841Z
UID:2330-1682530200-1682537400@www.johannelund.nu
SUMMARY:Stiftelsegruppsträff
DESCRIPTION:Tema: Missionsrörelsens hjärta i Svenska kyrkan \n\n\nMagnus Persson\, Samverkanssekreterare och Inspiratör i EFS\, samtalar med Mia Ström\, Sverigechef EFS\, om missionsrörelsens hjärta och uppdrag i Svenska kyrkan. \n\n\n17:30-18:00 serveras pizzabuffé för den som vill äta och delta på plats. Anmälan (inkl ev. specialkost) senast 21 apriltill margareta.forsberg@efs.nu Programmet startar 18:00. \nLokal: ”Lina” EFS kansli eller via länk
URL:https://www.johannelund.nu/event/stiftelsegruppstraff-5/
END:VEVENT
BEGIN:VEVENT
DTSTART;TZID=Europe/Stockholm:20230427T183000
DTEND;TZID=Europe/Stockholm:20230427T200000
DTSTAMP:20260424T015740
CREATED:20230110T084446Z
LAST-MODIFIED:20230414T065612Z
UID:2245-1682620200-1682625600@www.johannelund.nu
SUMMARY:Etiopien/Eritrea-seminarium
DESCRIPTION:Det här seminariet kommer att ledas av Dr. Öyvind Eide med titeln: ”Perspectives on the missions’ history of influence in Ethiopia”.\n\nTerminens sista seminarium är 25 maj 18:30 och kommer att ledas av Rev. Erik Johansson\, SEM Mission Secretary\, som just har besökt Eritrea. Han och andra kommer att presentera ny information därifrån och från ”the Horn”.\n\nLänk till seminarierna: https://meet.google.com/sfm-cnbx-ibn?authuser=1&hl=sv \n 
URL:https://www.johannelund.nu/event/etiopien-eritrea-seminarium-4/
END:VEVENT
BEGIN:VEVENT
DTSTART;TZID=Europe/Stockholm:20230428T083000
DTEND;TZID=Europe/Stockholm:20230428T121500
DTSTAMP:20260424T015740
CREATED:20230428T112302Z
LAST-MODIFIED:20230428T112302Z
UID:2893-1682670600-1682684100@www.johannelund.nu
SUMMARY:Dialogkonferens
DESCRIPTION:Dialogkonferens. Plats: Storstugan i Lötenkyrkan. Dialogkonferensen arrangeras vartannat år och är en möjlighet för studenter och personal att mötas i det goda samtalet utifrån olika perspektiv och erfarenheter. I år är temat “Ekumenik: ett möte över samfundsgränser”. Dagen inleds med att studentkåren bjuder på frukost kl 8.30. Välkommen!
URL:https://www.johannelund.nu/event/dialogkonferens/
END:VEVENT
BEGIN:VEVENT
DTSTART;TZID=Europe/Stockholm:20230511T150000
DTEND;TZID=Europe/Stockholm:20230511T163000
DTSTAMP:20260424T015740
CREATED:20230428T112414Z
LAST-MODIFIED:20230505T090716Z
UID:2895-1683817200-1683822600@www.johannelund.nu
SUMMARY:Teologicafé
DESCRIPTION:“MIN ANDLIGA RESA” \nTORSDAG 11 MAJ kl 15:00-16.30 \nTomas Nygren intervjuar\nMattias Neve och Torbjörn Larspers. \nSkolan bjuder på fika.\nSal 2: Välkommen!
URL:https://www.johannelund.nu/event/teologicafe-2/
END:VEVENT
BEGIN:VEVENT
DTSTART;VALUE=DATE:20230519
DTEND;VALUE=DATE:20230522
DTSTAMP:20260424T015740
CREATED:20230428T112719Z
LAST-MODIFIED:20230428T112737Z
UID:2897-1684454400-1684713599@www.johannelund.nu
SUMMARY:EFS årskonferens
DESCRIPTION:Fira Kristi himmelsfärd i Umeå!\nEFS årskonferens är i Umeå den 19-21 maj och lärare och studenter.\nHemsidan: https://konferens.efs.nu/
URL:https://www.johannelund.nu/event/efs-arskonferens/
END:VEVENT
BEGIN:VEVENT
DTSTART;TZID=Europe/Stockholm:20230522T131500
DTEND;TZID=Europe/Stockholm:20230522T144500
DTSTAMP:20260424T015740
CREATED:20230126T140413Z
LAST-MODIFIED:20230126T140413Z
UID:2340-1684761300-1684766700@www.johannelund.nu
SUMMARY:Presentation av bokmanus\, Filosofi för teologer
DESCRIPTION:Stefan Lindholm Presentation av bokmanus\, Filosofi för teologer\nStefan Lindholm är lektor i systematisk teologi och religionsfilosofi. \nLokal: Övre salen alt (länk)
URL:https://www.johannelund.nu/event/presentation-av-bokmanus-filosofi-for-teologer/
END:VEVENT
BEGIN:VEVENT
DTSTART;TZID=Europe/Stockholm:20230525T183000
DTEND;TZID=Europe/Stockholm:20230525T200000
DTSTAMP:20260424T015740
CREATED:20230110T095112Z
LAST-MODIFIED:20230112T151025Z
UID:2247-1685039400-1685044800@www.johannelund.nu
SUMMARY:Etiopien/Eritrea-seminarium
DESCRIPTION:Länk till seminarium: https://meet.google.com/sfm-cnbx-ibn?authuser=1&hl=sv
URL:https://www.johannelund.nu/event/etiopien-eritrea-seminarium-5/
END:VEVENT
BEGIN:VEVENT
DTSTART;TZID=Europe/Stockholm:20230526T090000
DTEND;TZID=Europe/Stockholm:20230526T104500
DTSTAMP:20260424T015740
CREATED:20220905T124521Z
LAST-MODIFIED:20230316T085419Z
UID:1326-1685091600-1685097900@www.johannelund.nu
SUMMARY:Avslutning bibelskolan
DESCRIPTION:Plats: församlingssalen\nFika efteråt i samma sal.\nVälkommen!
URL:https://www.johannelund.nu/event/avslutning-bibelskolan/
END:VEVENT
BEGIN:VEVENT
DTSTART;TZID=Europe/Stockholm:20230601T173000
DTEND;TZID=Europe/Stockholm:20230601T193000
DTSTAMP:20260424T015740
CREATED:20230126T134953Z
LAST-MODIFIED:20230126T135219Z
UID:2332-1685640600-1685647800@www.johannelund.nu
SUMMARY:Stiftelsegruppsträff
DESCRIPTION:Tema: Missionsrörelsens hjärta för att gestalta evangeliet bland människor med muslimsk bakgrund. \n\n\nFrida och Andreas Thornell\, inspiratörer i EFS\, samtalar med Mia Ström\, Sverigechef EFS. \n\n\n17:30-18:00 serveras pizzabuffé för den som vill äta och delta på plats. Anmälan (inkl ev. specialkost) senast 29 maj till margareta.forsberg@efs.nu Programmet startar 18:00. \nLokal: ”Lina! EFS kansli eller via länk
URL:https://www.johannelund.nu/event/stiftelsegruppstraff-6/
END:VEVENT
BEGIN:VEVENT
DTSTART;TZID=Europe/Stockholm:20230602T090000
DTEND;TZID=Europe/Stockholm:20230602T110000
DTSTAMP:20260424T015740
CREATED:20230428T113041Z
LAST-MODIFIED:20230428T113041Z
UID:2901-1685696400-1685703600@www.johannelund.nu
SUMMARY:Högskolans avslutningsgudstjänst
DESCRIPTION:Gudstjänsten firas i Lötenkyrkan med fika efteråt.
URL:https://www.johannelund.nu/event/hogskolans-avslutningsgudstjanst/
END:VEVENT
BEGIN:VEVENT
DTSTART;VALUE=DATE:20230605
DTEND;VALUE=DATE:20230606
DTSTAMP:20260424T015740
CREATED:20230428T112823Z
LAST-MODIFIED:20230428T112823Z
UID:2899-1685923200-1686009599@www.johannelund.nu
SUMMARY:Omtentadag
DESCRIPTION:Anmälan görs till studierektorn ( studierektor@johannelund.nu) senast 15 maj.
URL:https://www.johannelund.nu/event/omtentadag/
END:VEVENT
BEGIN:VEVENT
DTSTART;TZID=Europe/Stockholm:20230821T080000
DTEND;TZID=Europe/Stockholm:20230824T170000
DTSTAMP:20260424T015740
CREATED:20230803T112159Z
LAST-MODIFIED:20230803T112159Z
UID:3166-1692604800-1692896400@www.johannelund.nu
SUMMARY:Introduktionsdagar hösten 2023
DESCRIPTION:Här kan du se programmet för introduktionsdagarna. Välj för grund- eller avancerad nivå. \nVälkommen grundnivå \n \nVälkommen avancerad nivå
URL:https://www.johannelund.nu/event/introduktionsdagar-hosten-2023/
END:VEVENT
BEGIN:VEVENT
DTSTART;TZID=Europe/Stockholm:20230824T090000
DTEND;TZID=Europe/Stockholm:20230824T103000
DTSTAMP:20260424T015740
CREATED:20230803T112306Z
LAST-MODIFIED:20230803T112324Z
UID:3169-1692867600-1692873000@www.johannelund.nu
SUMMARY:Upptaktsgudstjänst
DESCRIPTION:Lötenkyrkan med efterföljande fika.
URL:https://www.johannelund.nu/event/upptaktsgudstjanst/
END:VEVENT
BEGIN:VEVENT
DTSTART;TZID=Europe/Stockholm:20230828T080000
DTEND;TZID=Europe/Stockholm:20230828T170000
DTSTAMP:20260424T015740
CREATED:20230816T103116Z
LAST-MODIFIED:20230816T103116Z
UID:3226-1693209600-1693242000@www.johannelund.nu
SUMMARY:Uppstart bibelskolan
DESCRIPTION:Tider meddelas klassen.
URL:https://www.johannelund.nu/event/uppstart-bibelskolan/
END:VEVENT
BEGIN:VEVENT
DTSTART;TZID=Europe/Stockholm:20230901T100000
DTEND;TZID=Europe/Stockholm:20230901T102000
DTSTAMP:20260424T015740
CREATED:20230830T130033Z
LAST-MODIFIED:20230831T095255Z
UID:3292-1693562400-1693563600@www.johannelund.nu
SUMMARY:Missionsmorgon med Erik Johansson
DESCRIPTION:…från EFS internationella avdelning
URL:https://www.johannelund.nu/event/missionsmorgon-med-erik-johansson/
END:VEVENT
BEGIN:VEVENT
DTSTART;TZID=Europe/Stockholm:20230907T100000
DTEND;TZID=Europe/Stockholm:20230907T102000
DTSTAMP:20260424T015740
CREATED:20230831T095348Z
LAST-MODIFIED:20230831T095348Z
UID:3294-1694080800-1694082000@www.johannelund.nu
SUMMARY:Lötenkyrkan presenterar sig
DESCRIPTION:under morgonbönen
URL:https://www.johannelund.nu/event/lotenkyrkan-presenterar-sig/
END:VEVENT
BEGIN:VEVENT
DTSTART;TZID=Europe/Stockholm:20230911T131500
DTEND;TZID=Europe/Stockholm:20230911T144500
DTSTAMP:20260424T015740
CREATED:20230803T112639Z
LAST-MODIFIED:20230831T121258Z
UID:3172-1694438100-1694443500@www.johannelund.nu
SUMMARY:Presentation av bokmanus om själavård
DESCRIPTION:med Lars-Göran Sundberg. Respons från Veronica Widell \nLars-Göran Sundberg är högskolelektor i historisk-praktisk teologi\, själavård och religionspsykologi \nFölj med via länk: https://meet.google.com/ofi-izwq-huc
URL:https://www.johannelund.nu/event/forskningsseminarium-4/
LOCATION:övre salen
END:VEVENT
BEGIN:VEVENT
DTSTART;TZID=Europe/Stockholm:20230925T080000
DTEND;TZID=Europe/Stockholm:20230926T170000
DTSTAMP:20260424T015740
CREATED:20230803T112746Z
LAST-MODIFIED:20230803T112746Z
UID:3174-1695628800-1695747600@www.johannelund.nu
SUMMARY:Konferens med Åbo akademi
DESCRIPTION:
URL:https://www.johannelund.nu/event/konferens-med-abo-akademi/
END:VEVENT
BEGIN:VEVENT
DTSTART;TZID=Europe/Stockholm:20230925T080000
DTEND;TZID=Europe/Stockholm:20230926T170000
DTSTAMP:20260424T015740
CREATED:20230831T121356Z
LAST-MODIFIED:20230912T065714Z
UID:3309-1695628800-1695747600@www.johannelund.nu
SUMMARY:Symposium
DESCRIPTION:”Receptionen av Gamla testamentet i den tidiga kyrkan.”\nArrangeras i samarbete med Åbo Akademi. Obs\, sänds ej digitalt! \nProgram: \nMåndag 25 september \n13:00-14:00 Välkommen. Presentation av Åbo Akademi och  \nJohannelunds teologiska högskola \n14:00-14:10 Paus \n14:10-15:00 Föreläsning av David Nyström: Justinus Martyrens syn på den mosaiska  \nlagen: paulinska motiv och hellenistisk filosofi \n15:00-15:30 Fika \n15:30-16:15 Stefan Green: ”Jes 65:1–3 och dess receptionshistoria med utgångspunkt från \nJustinus Dialog med juden Tryfon och Irenaeus Mot heresierna.” \n16:15-17:00 Stefan Lindholm: Augustinus Genesiskommentarer \n  \nTisdag 26 september \n09:00-10:00 Sven-Olav Back: ”Σπέρμα εἰς σωτηρίαν (Jes 1:9/Dial 55:3) – Justinus Martyren om förmågan att förstå Skrifterna.” \n10:00-11:00 Mässa och fika \n11:00-11:30 Johanna Rönnlund: ”Att framföra klagan: En analys av Psalm 13.” \n11:30-12:30 Antti Laato: ”The Vision of Hezekiah in the Ascension of Isaiah”. \nIngen anmälan.
URL:https://www.johannelund.nu/event/symposium/
LOCATION:övre salen
END:VEVENT
BEGIN:VEVENT
DTSTART;TZID=Europe/Stockholm:20230927T180000
DTEND;TZID=Europe/Stockholm:20230927T210000
DTSTAMP:20260424T015740
CREATED:20230816T103255Z
LAST-MODIFIED:20230816T103255Z
UID:3228-1695837600-1695848400@www.johannelund.nu
SUMMARY:Hemafton
DESCRIPTION:Festkväll för skolans studenter och personal.
URL:https://www.johannelund.nu/event/hemafton-5/
END:VEVENT
BEGIN:VEVENT
DTSTART;TZID=Europe/Stockholm:20231004T100000
DTEND;TZID=Europe/Stockholm:20231004T102000
DTSTAMP:20260424T015740
CREATED:20230831T095449Z
LAST-MODIFIED:20230831T095449Z
UID:3296-1696413600-1696414800@www.johannelund.nu
SUMMARY:Missionsmorgon KRIK
DESCRIPTION:Kristen idrottskontakt besöker oss!
URL:https://www.johannelund.nu/event/missionsmorgon-krik/
END:VEVENT
BEGIN:VEVENT
DTSTART;TZID=Europe/Stockholm:20231011T100000
DTEND;TZID=Europe/Stockholm:20231011T102000
DTSTAMP:20260424T015740
CREATED:20230831T095549Z
LAST-MODIFIED:20230831T095549Z
UID:3298-1697018400-1697019600@www.johannelund.nu
SUMMARY:Missionsmorgon Bibelsällskapet
DESCRIPTION:Johannelund gästas av Anders Göransson
URL:https://www.johannelund.nu/event/missionsmorgon-bibelsallskapet/
END:VEVENT
BEGIN:VEVENT
DTSTART;TZID=Europe/Stockholm:20231023T150000
DTEND;TZID=Europe/Stockholm:20231023T163000
DTSTAMP:20260424T015740
CREATED:20230816T103424Z
LAST-MODIFIED:20231018T072229Z
UID:3230-1698073200-1698078600@www.johannelund.nu
SUMMARY:Forskningsseminarium
DESCRIPTION:Veronica Widell försvarar sin masterupsats ”Kravfyllda självbilder och prestationsidentitet:\nSjälavården i möte med den senmoderna människans problematik” \nSimon Johansson presenterar artikelutkastet ”Isaiah 11:2–3a and the ’Sevenfold Spirit’ in Three Second Century CE Christian Writers: Justin Martyr\, Irenaeus of Lyon\, and Tertullian”. \nVeronica Widell är högskoleadjunkt i själavård och pastorala kurser. Simon Johansson är doktorand och högskoleadjunkt i exegetisk teologi.
URL:https://www.johannelund.nu/event/forskningsseminarium-6/
END:VEVENT
BEGIN:VEVENT
DTSTART;TZID=Europe/Stockholm:20231024T080000
DTEND;TZID=Europe/Stockholm:20231026T170000
DTSTAMP:20260424T015740
CREATED:20230816T103531Z
LAST-MODIFIED:20230816T103531Z
UID:3232-1698134400-1698339600@www.johannelund.nu
SUMMARY:Campusdagar
DESCRIPTION:
URL:https://www.johannelund.nu/event/campusdagar-2/
END:VEVENT
BEGIN:VEVENT
DTSTART;TZID=Europe/Stockholm:20231025T100000
DTEND;TZID=Europe/Stockholm:20231025T102000
DTSTAMP:20260424T015740
CREATED:20230831T095654Z
LAST-MODIFIED:20230831T095654Z
UID:3300-1698228000-1698229200@www.johannelund.nu
SUMMARY:Universitetskyrkan på besök
DESCRIPTION:De informerar om sin verksamhet
URL:https://www.johannelund.nu/event/universitetskyrkan-pa-besok/
END:VEVENT
BEGIN:VEVENT
DTSTART;TZID=Europe/Stockholm:20231026T183000
DTEND;TZID=Europe/Stockholm:20231026T200000
DTSTAMP:20260424T015740
CREATED:20230831T123546Z
LAST-MODIFIED:20230831T123610Z
UID:3321-1698345000-1698350400@www.johannelund.nu
SUMMARY:Johannelunds Eritrea/Etiopien-seminarium
DESCRIPTION:Johannelunds Eritrea/Etiopien-seminarium (enbart på engelska) träffas på denna länk\nunder Staffan Grenstedts ledning.\nFör mer information om programmet\, kontakta staffangrenstedt@gmail.com. \nKommande datum:\n30 november
URL:https://www.johannelund.nu/event/johannelunds-eritrea-etiopien-seminarium/
END:VEVENT
BEGIN:VEVENT
DTSTART;TZID=Europe/Stockholm:20231027T080000
DTEND;TZID=Europe/Stockholm:20231027T170000
DTSTAMP:20260424T015740
CREATED:20230803T113530Z
LAST-MODIFIED:20230803T113530Z
UID:3178-1698393600-1698426000@www.johannelund.nu
SUMMARY:Mission i Sverige
DESCRIPTION:EFS Fortbildnings- och förnyelsedagar för präster\, diakoner\, anställda och ideella medarbetare. \n\n\n\nhttps://missionisverige.com/ \nProgram: \n09.00 Morgonmässa\nCelebrant och predikant: Mia Ström\n09.45 Kaffe\n10.15 Session 1: Miljö för tillväxt\nMagnus Persson\, inspiratör EFS11.00 Session 2: Exempel på tillväxt\nSarah Jackson\, Church Revitalisation Trust\n11.30 Lärdomar från England: ett samtal med Sarah Jackson\n12.00 Lunch och gemenskap\n14.00 Session 3: Verktyg för tillväxt\nMarie Louise Nilsson\, Alpha Sverige\n14.30 Session 4: Ledarskap för tillväxt\nMattias Neve\, Johannelunds teologiska högskola\n15.00 Panelsamtal om tillväxt: Gudsverket och hantverket\n15.30 Kaffe och avslutning \nMission i Sverige arrangeras även i Göteborg: 26 oktober.
URL:https://www.johannelund.nu/event/mission-i-sverige/
END:VEVENT
BEGIN:VEVENT
DTSTART;TZID=Europe/Stockholm:20231115T100000
DTEND;TZID=Europe/Stockholm:20231115T102000
DTSTAMP:20260424T015740
CREATED:20230831T113658Z
LAST-MODIFIED:20230831T113658Z
UID:3302-1700042400-1700043600@www.johannelund.nu
SUMMARY:Missionsmorgon Erik Johansson
DESCRIPTION:
URL:https://www.johannelund.nu/event/missionsmorgon-erik-johansson/
END:VEVENT
END:VCALENDAR