BEGIN:VCALENDAR
VERSION:2.0
PRODID:-//Johannelunds teologiska högskola - ECPv6.15.20//NONSGML v1.0//EN
CALSCALE:GREGORIAN
METHOD:PUBLISH
X-ORIGINAL-URL:https://www.johannelund.nu
X-WR-CALDESC:Händelser för Johannelunds teologiska högskola
REFRESH-INTERVAL;VALUE=DURATION:PT1H
X-Robots-Tag:noindex
X-PUBLISHED-TTL:PT1H
BEGIN:VTIMEZONE
TZID:Europe/Stockholm
BEGIN:DAYLIGHT
TZOFFSETFROM:+0100
TZOFFSETTO:+0200
TZNAME:CEST
DTSTART:20210328T010000
END:DAYLIGHT
BEGIN:STANDARD
TZOFFSETFROM:+0200
TZOFFSETTO:+0100
TZNAME:CET
DTSTART:20211031T010000
END:STANDARD
BEGIN:DAYLIGHT
TZOFFSETFROM:+0100
TZOFFSETTO:+0200
TZNAME:CEST
DTSTART:20220327T010000
END:DAYLIGHT
BEGIN:STANDARD
TZOFFSETFROM:+0200
TZOFFSETTO:+0100
TZNAME:CET
DTSTART:20221030T010000
END:STANDARD
BEGIN:DAYLIGHT
TZOFFSETFROM:+0100
TZOFFSETTO:+0200
TZNAME:CEST
DTSTART:20230326T010000
END:DAYLIGHT
BEGIN:STANDARD
TZOFFSETFROM:+0200
TZOFFSETTO:+0100
TZNAME:CET
DTSTART:20231029T010000
END:STANDARD
END:VTIMEZONE
BEGIN:VEVENT
DTSTART;TZID=Europe/Stockholm:20221201T080000
DTEND;TZID=Europe/Stockholm:20221201T183000
DTSTAMP:20260423T193508
CREATED:20221128T110536Z
LAST-MODIFIED:20221128T110536Z
UID:2149-1669881600-1669919400@www.johannelund.nu
SUMMARY:Eritrea/Etiopien seminarium
DESCRIPTION:Välkommen med på terminens sista Eritrea/Etiopienseminarium . \nProfessor Samuel Rubenson och Dr. Mengistu Gobezie\, AAU\, kommer att presentera ett projekt som kallas ”Saving the Ethiopian medieval churches”. Det finns en gammal kyrka nära Lalibela som är särskilt intressant och som vi kommer att fokusera på. Vi ser fram emot det här seminariumet! \nKlicka som vanligt på länken:  https://meet.google.com/sfm-cnbx-ibn?authuser=1&hl=sv \nThe seminar will be hold in English and here is some further information:\n”For your own interest I would also like to inform you about two new historical novels on Ethiopia.\n\nMichael Ståhl\, one of our seminar members\, has written a book in Swedish Prästkungen\, which deals with 16th century Ethiopia and the war between the Muslim sultanat Adal and the Christian kingdom Abyssinia\, Ekström & Garay 2022. I enfold a press release of Michael’s book\, below.\n\nKersti Carlsson\, another of our seminar members\,recommends another historical novel about the Italian war by Maaza Mengiste\, Skuggkungen\, Tranans förlag\, 2022. The book is originally in  English with the title The Shadow king.”
URL:https://www.johannelund.nu/event/eritrea-etiopien-seminarium-3/
END:VEVENT
BEGIN:VEVENT
DTSTART;TZID=Europe/Stockholm:20221208T180000
DTEND;TZID=Europe/Stockholm:20221208T193000
DTSTAMP:20260423T193508
CREATED:20221010T123722Z
LAST-MODIFIED:20221129T084012Z
UID:2046-1670522400-1670527800@www.johannelund.nu
SUMMARY:Stiftelsegruppsträff
DESCRIPTION:”Kallelsen” LarsOlov Eriksson\, EFS ordförande samtalar med Mia Ström\, Sverigechef\, om kallelsen – den allmänna och den särskilda. Vi bjuder på pizzabuffé! Anmälan (inklusive specialkost) senast 6 december till margareta.forsberg@efs.nu Lokal: Lina\, källaren EFS \nStiftelseträffarna är ett tillfälle för samtal om EFS som rörelse och om frågor som inte alltid ryms inom ramen för de akademiska studierna\, t.ex. kallelse\, bön och vision. Det kommer att finnas tid för samtal och att ställa frågor. Stiftelseträffarna är obligatoriska för studenter i antagningsprocessen för tjänst i EFS\, men öppna för alla studenter som är intresserade av EFS och/eller att stå i tjänst framöver. För studenter som inte är i antagningsprocess för tjänst i EFS finns möjlighet att delta antingen på plats eller digitalt. För studenter i antagningsprocess för tjänst i EFS är deltagande digitalt möjligt efter överenskommelse med rekryteringsansvarig på EFS.
URL:https://www.johannelund.nu/event/stiftelsegruppstraff-3/
END:VEVENT
BEGIN:VEVENT
DTSTART;TZID=Europe/Stockholm:20221213T100000
DTEND;TZID=Europe/Stockholm:20221213T102000
DTSTAMP:20260423T193508
CREATED:20220905T124106Z
LAST-MODIFIED:20221205T101045Z
UID:1316-1670925600-1670926800@www.johannelund.nu
SUMMARY:Luciafirande
DESCRIPTION:Luciamorgon 13 december!\nVi firar Lucia tillsammans med Johannelunds bibelskola. Alla studenter\, Johannelunds och EFS personal är välkomna!\nKl 10:00 serveras fika i Lötenkyrkans Församlingssal: swisha (20:-). Där fikar vi och  lyssnar till Luciatåget.\nIngen föranmälan krävs. Välkomna! \n 
URL:https://www.johannelund.nu/event/luciafirande/
END:VEVENT
BEGIN:VEVENT
DTSTART;TZID=Europe/Stockholm:20221215T104500
DTEND;TZID=Europe/Stockholm:20221215T121500
DTSTAMP:20260423T193508
CREATED:20221116T131115Z
LAST-MODIFIED:20221213T081026Z
UID:2129-1671101100-1671106500@www.johannelund.nu
SUMMARY:INSTÄLLD! Öppen föreläsning med Johanna Larsdal
DESCRIPTION:
URL:https://www.johannelund.nu/event/oppen-forelasning-med-johanna-larsdal-fran-judiska-herdar-till-hedniska-mager-hur-skildrades-jesu-fodelse-i-fornkyrkan-fram-till-ar-200/
LOCATION:johannelunds teologiska högskola
END:VEVENT
END:VCALENDAR