BEGIN:VCALENDAR
VERSION:2.0
PRODID:-//Johannelunds teologiska högskola - ECPv6.15.20//NONSGML v1.0//EN
CALSCALE:GREGORIAN
METHOD:PUBLISH
X-WR-CALNAME:Johannelunds teologiska högskola
X-ORIGINAL-URL:https://www.johannelund.nu
X-WR-CALDESC:Händelser för Johannelunds teologiska högskola
REFRESH-INTERVAL;VALUE=DURATION:PT1H
X-Robots-Tag:noindex
X-PUBLISHED-TTL:PT1H
BEGIN:VTIMEZONE
TZID:Europe/Stockholm
BEGIN:DAYLIGHT
TZOFFSETFROM:+0100
TZOFFSETTO:+0200
TZNAME:CEST
DTSTART:20220327T010000
END:DAYLIGHT
BEGIN:STANDARD
TZOFFSETFROM:+0200
TZOFFSETTO:+0100
TZNAME:CET
DTSTART:20221030T010000
END:STANDARD
BEGIN:DAYLIGHT
TZOFFSETFROM:+0100
TZOFFSETTO:+0200
TZNAME:CEST
DTSTART:20230326T010000
END:DAYLIGHT
BEGIN:STANDARD
TZOFFSETFROM:+0200
TZOFFSETTO:+0100
TZNAME:CET
DTSTART:20231029T010000
END:STANDARD
BEGIN:DAYLIGHT
TZOFFSETFROM:+0100
TZOFFSETTO:+0200
TZNAME:CEST
DTSTART:20240331T010000
END:DAYLIGHT
BEGIN:STANDARD
TZOFFSETFROM:+0200
TZOFFSETTO:+0100
TZNAME:CET
DTSTART:20241027T010000
END:STANDARD
END:VTIMEZONE
BEGIN:VEVENT
DTSTART;TZID=Europe/Stockholm:20230109T080000
DTEND;TZID=Europe/Stockholm:20230113T170000
DTSTAMP:20260423T182053
CREATED:20220905T124156Z
LAST-MODIFIED:20220905T124156Z
UID:1318-1673251200-1673629200@www.johannelund.nu
SUMMARY:Campusvecka
DESCRIPTION:
URL:https://www.johannelund.nu/event/campusvecka-2/
END:VEVENT
BEGIN:VEVENT
DTSTART;TZID=Europe/Stockholm:20230112T183000
DTEND;TZID=Europe/Stockholm:20230112T200000
DTSTAMP:20260423T182053
CREATED:20221209T094929Z
LAST-MODIFIED:20221209T132025Z
UID:2182-1673548200-1673553600@www.johannelund.nu
SUMMARY:Etiopien/Eritrea-seminarium
DESCRIPTION:Ms Marianne Nilsson the SEM ”Music-missionary” will present a seminar with the title Hymn Books – a key to Christian faith. She will discuss how the SEM translated and printed 5 hymn books in 5 different languages in 20 years. (See below.) Music has always been essential in mission and church life. We look forward to this seminar. Welcome Marianne! \nHymn Books – a key to Christian faith\nWithin approximately 20 years the SEM-missionaries printed hymnbooks in 5 different\nlanguages. It looks like a planned strategy\, but was it really?\nAmharic: Yagubae Mazmurat 1881\, 2 nd ed. 1887\nOromo: Faarsaa fi Weeduu 1886\nTigrinya: Mazmur Selam 1900\nTigre: Derus Tseyon 1902\nKunama: Anana Kitaba 1903 \nWho translated the hymns? Why?\nWhat type of hymns were selected for translation?\nWhat was important\, text or music?\nWhy printing hymnbooks?\nHow were the translated hymns received? \nMarianne Nilsson \nLink: https://meet.google.com/sfm-cnbx-ibn?authuser=1&hl=sv \nComing seminar: 23.2\, 30.3\, 27.4 och 25.5.
URL:https://www.johannelund.nu/event/etiopien-eritrea-seminarium/
END:VEVENT
BEGIN:VEVENT
DTSTART;TZID=Europe/Stockholm:20230126T173000
DTEND;TZID=Europe/Stockholm:20230126T193000
DTSTAMP:20260423T182053
CREATED:20230126T134727Z
LAST-MODIFIED:20230126T134727Z
UID:2328-1674754200-1674761400@www.johannelund.nu
SUMMARY:
DESCRIPTION:Tema: Missionsrörelsen sår och planterar i Sverige \n\n\nMartin Alexandersson\, Utvecklingskonsulent på EFS\, samtalar med Mia Ström\, Sverigechef EFS\, om EFS nyplanteringsarbete. \n\n\n17:30-18:00 serveras pizzabuffé för den som vill äta och delta på plats. Anmälan (inkl ev. specialkost) senast 20 mars till margareta.forsberg@efs.nu Programmet startar 18:00. \nLokal: ”Lina” EFS kansli eller via länk.
URL:https://www.johannelund.nu/event/2328/
END:VEVENT
END:VCALENDAR