BEGIN:VCALENDAR
VERSION:2.0
PRODID:-//Johannelunds teologiska högskola - ECPv6.15.20//NONSGML v1.0//EN
CALSCALE:GREGORIAN
METHOD:PUBLISH
X-WR-CALNAME:Johannelunds teologiska högskola
X-ORIGINAL-URL:https://www.johannelund.nu
X-WR-CALDESC:Händelser för Johannelunds teologiska högskola
REFRESH-INTERVAL;VALUE=DURATION:PT1H
X-Robots-Tag:noindex
X-PUBLISHED-TTL:PT1H
BEGIN:VTIMEZONE
TZID:Europe/Stockholm
BEGIN:DAYLIGHT
TZOFFSETFROM:+0100
TZOFFSETTO:+0200
TZNAME:CEST
DTSTART:20220327T010000
END:DAYLIGHT
BEGIN:STANDARD
TZOFFSETFROM:+0200
TZOFFSETTO:+0100
TZNAME:CET
DTSTART:20221030T010000
END:STANDARD
BEGIN:DAYLIGHT
TZOFFSETFROM:+0100
TZOFFSETTO:+0200
TZNAME:CEST
DTSTART:20230326T010000
END:DAYLIGHT
BEGIN:STANDARD
TZOFFSETFROM:+0200
TZOFFSETTO:+0100
TZNAME:CET
DTSTART:20231029T010000
END:STANDARD
BEGIN:DAYLIGHT
TZOFFSETFROM:+0100
TZOFFSETTO:+0200
TZNAME:CEST
DTSTART:20240331T010000
END:DAYLIGHT
BEGIN:STANDARD
TZOFFSETFROM:+0200
TZOFFSETTO:+0100
TZNAME:CET
DTSTART:20241027T010000
END:STANDARD
END:VTIMEZONE
BEGIN:VEVENT
DTSTART;TZID=Europe/Stockholm:20230313T093000
DTEND;TZID=Europe/Stockholm:20230313T143000
DTSTAMP:20260423T205737
CREATED:20230126T085202Z
LAST-MODIFIED:20230221T075508Z
UID:2293-1678699800-1678717800@www.johannelund.nu
SUMMARY:Öppet hus!
DESCRIPTION:Är du nyfiken på Johannelund och våra utbildningar? Välkommen på öppet hus! Du får se lokalerna\, träffa lärare och studenter\, få information om våra utbildningar\, prova på en föreläsning osv.\nMer information hittar du här: www.johannelund.nu/oppet-hus/ där du även kan beställa lunch\, senast 8 mars. \n\n\n\nVarmt välkommen! \n\n\n\n\n\n\nProgram\n9.30 Drop-in fika\n10.00 Välkommen och information om Johannelund\n10.45 Föreläsning i Teologisk etik med Tomas Nygren\n12.15 Lunchpaus (Mat går att förbeställa via formuläret på denna sida\, annars går det bra att ta med egen mat för den som önskar)\n13.10 Rundvandring\n13.40 Information om studier vid Johannelund och programutbud\n-14.30 \nHar du inte möjlighet att vara med på plats i Uppsala under dagen? Då kan du följa delar av programmet via videolänk: https://meet.google.com/gwb-soaf-pop
URL:https://www.johannelund.nu/event/oppet-hus/
END:VEVENT
BEGIN:VEVENT
DTSTART;TZID=Europe/Stockholm:20230320T131500
DTEND;TZID=Europe/Stockholm:20230320T144500
DTSTAMP:20260423T205737
CREATED:20230126T140015Z
LAST-MODIFIED:20230126T140015Z
UID:2336-1679318100-1679323500@www.johannelund.nu
SUMMARY:Föreläsning "Sveriges kristna arv"
DESCRIPTION:Kjell O Lejon ”Sveriges kristna arv”\nKjell O Lejon är vice rektor och professor i kyrkohistoria\nÖvre salen alt (länk)
URL:https://www.johannelund.nu/event/forelasning-sveriges-kristna-arv/
END:VEVENT
BEGIN:VEVENT
DTSTART;TZID=Europe/Stockholm:20230323T080000
DTEND;TZID=Europe/Stockholm:20230324T170000
DTSTAMP:20260423T205737
CREATED:20230126T083041Z
LAST-MODIFIED:20230317T135954Z
UID:2288-1679558400-1679677200@www.johannelund.nu
SUMMARY:Homiletikdagar ”Predikan i en sekulariserad tid”
DESCRIPTION:Homiletikdagar 23-24 mars\nVarje år anordnar Johannelund predikodagar. Temat för dagarna skiftar. Detta år är det ”predikan i en sekulariserad tid”.  Detta år är det ”predikan i en sekulariserad tid”. Under dagarna blir det även praktiska inslag där vi övar förmåga att nå fram till den sekulariserade människan.\nDagarna är obligatoriska för dig som går prästprogram. \nMedverkande:\n-Tomas Nygren och Klas Lundström\, lärare och tidigare lärare på Johannelund\, inleder dagarna med teologiska reflektioner över ämnet. \n-Lasse Levén\, pastor i Furuhöjdskyrkan i Alunda nordost om Uppsala\, arbetar nu med nyplantering. \n-Mattias Nordström\, tidigare Johannelundselev\, har arbetat som präst i Sa Clara kyrka och arbetar nu med diakoni vid Samariterhemmet\, Uppsala. \n-Kerstin Oderhem\, EFS missionsföreståndare \nProgram\nPredikan i en sekulariserad tid\nPlats: Aulan \n23 mars\n8.30-9.10  Introduktion\n9.20-10  Teologiska reflektioner\, Tomas Nygren ”Erbjuden och mottagen nåd” och Klas Lundström ”Vad tror svensken på och vägar till kristen tron”\n10.00  Andakt\nKaffe\n10.45-12.15 Lasse Levén ”Att predika för den sekulariserade människan 1”\nLunch\n13.15-14.10 Lasse Levén ”Illustrationer och drama som kommunikationsmedel”\n14.20-15 Grupparbete drama\n15.00 Kaffe\n15.30 Spela upp dramer\, samtal\n16.30 Slut på dagen \n24 mars\n8.30-9.00  Mattias Nordström ”Att predika för den sekulariserade människan 2”\n09.00-10.00  Kerstin Oderhem ”Att predika för den sekulariserade människan 3”\n10.00  Andakt\nKaffe\n10.45-12.00  Tommy Hagermark ”Vittnesbördets funktion och plats i predikan”\nAvslutning  \nVälkommen till intressanta och givande dagar om ett viktigt tema! \nFör dig som följer dagarna via nätet är länkarna:\n23 mars  meet.google.com/phe-ocdc-tut\n24 mars meet.google.com/qut-azfr-ndb
URL:https://www.johannelund.nu/event/homiletikdagar/
END:VEVENT
BEGIN:VEVENT
DTSTART;TZID=Europe/Stockholm:20230323T173000
DTEND;TZID=Europe/Stockholm:20230323T193000
DTSTAMP:20260423T205737
CREATED:20230126T135324Z
LAST-MODIFIED:20230126T135527Z
UID:2334-1679592600-1679599800@www.johannelund.nu
SUMMARY:Stiftelsegruppsträff
DESCRIPTION:Tema: Missionsrörelsen sår och planterar i Sverige \n\n\nMartin Alexandersson\, Utvecklingskonsulent på EFS\, samtalar med Mia Ström\, Sverigechef EFS\, om EFS nyplanteringsarbete. \n\n\n17:30-18:00 serveras pizzabuffé för den som vill äta och delta på plats. Anmälan (inkl ev. specialkost) senast 20 mars till margareta.forsberg@efs.nu Programmet startar 18:00. \nLokal: ”Lina” EFS kansli eller via länk.
URL:https://www.johannelund.nu/event/stiftelsegruppstraff-7/
END:VEVENT
BEGIN:VEVENT
DTSTART;TZID=Europe/Stockholm:20230330T183000
DTEND;TZID=Europe/Stockholm:20230330T200000
DTSTAMP:20260423T205737
CREATED:20230110T084359Z
LAST-MODIFIED:20230227T123201Z
UID:2243-1680201000-1680206400@www.johannelund.nu
SUMMARY:Etiopien/Eritrea-seminarium
DESCRIPTION:Bengt Hjort kommer att presentera sitt arbete med att dokumentera historia kring Etiopiska-Evangelikala Lutherska kyrkan i Etiopien  (ELM/Bibletrue friends). Första boken i serien är redan tryckt på svenska och engelska. \nLänk till seminarium: https://meet.google.com/sfm-cnbx-ibn?authuser=1&hl=sv \nKommande seminarium: 27 april och 25 maj.
URL:https://www.johannelund.nu/event/etiopien-eritrea-seminarium-3/
END:VEVENT
END:VCALENDAR